BEGIN:VCALENDAR
VERSION:2.0
PRODID:-//Normandie Livre &amp; Lecture - ECPv6.15.11//NONSGML v1.0//EN
CALSCALE:GREGORIAN
METHOD:PUBLISH
X-WR-CALNAME:Normandie Livre &amp; Lecture
X-ORIGINAL-URL:https://www.normandielivre.fr
X-WR-CALDESC:Évènements pour Normandie Livre &amp; Lecture
REFRESH-INTERVAL;VALUE=DURATION:PT1H
X-Robots-Tag:noindex
X-PUBLISHED-TTL:PT1H
BEGIN:VTIMEZONE
TZID:Europe/Paris
BEGIN:DAYLIGHT
TZOFFSETFROM:+0100
TZOFFSETTO:+0200
TZNAME:CEST
DTSTART:20220327T010000
END:DAYLIGHT
BEGIN:STANDARD
TZOFFSETFROM:+0200
TZOFFSETTO:+0100
TZNAME:CET
DTSTART:20221030T010000
END:STANDARD
BEGIN:DAYLIGHT
TZOFFSETFROM:+0100
TZOFFSETTO:+0200
TZNAME:CEST
DTSTART:20230326T010000
END:DAYLIGHT
BEGIN:STANDARD
TZOFFSETFROM:+0200
TZOFFSETTO:+0100
TZNAME:CET
DTSTART:20231029T010000
END:STANDARD
BEGIN:DAYLIGHT
TZOFFSETFROM:+0100
TZOFFSETTO:+0200
TZNAME:CEST
DTSTART:20240331T010000
END:DAYLIGHT
BEGIN:STANDARD
TZOFFSETFROM:+0200
TZOFFSETTO:+0100
TZNAME:CET
DTSTART:20241027T010000
END:STANDARD
END:VTIMEZONE
BEGIN:VEVENT
DTSTART;TZID=Europe/Paris:20230304T150000
DTEND;TZID=Europe/Paris:20230304T193000
DTSTAMP:20260424T072940
CREATED:20230202T155230Z
LAST-MODIFIED:20230202T155230Z
UID:10001494-1677942000-1677958200@www.normandielivre.fr
SUMMARY:Séance de dédicaces avec Mathieu Pigné
DESCRIPTION:Batteur de rock\, auteur\, compositeur\, réalisateur d’albums\, MATHIEU PIGNÉ est un musicien actif de la scène musicale française. Collaborateur de Gaëtan Roussel\, Julien Doré\, Marc Lavoine et bien d’autres\, il est l’un des membres du groupe de rock Animal triste.\nAprès avoir traîné ses baguettes aux quatre coins de l’Hexagone et plus encore\, il décide de se poser un instant afin de donner corps à ce roman sauvage qui lui trottait dans la tête depuis quelque temps. C’est ainsi qu’est né Royal bourbon\, un premier roman en forme de road-movie noir à l’humour électrique\, aussi énergique que provocateur. \n————————————- \nUn drame est si vite arrivé… un miracle\, tout autant. \nEspagne 2006\, un grave accident de bus en montagne lors d’un voyage scolaire. Trente et un lycéens miraculés. Aucun blessé. Un seul absent ce jour-là\, pour cause d’appendicite : Jeff Moran. France 2016\, lors d’une soirée commémorative de « la miraculeuse tragédie »\, Jeff\, devenu journaliste dilettante qui traîne son cynisme et son vague à l’âme comme une seconde peau\, se voit mandaté par le père de son ex-meilleur ami pour retrouver ce fils prodigue qui s’est volatilisé. Aubaine ou malédiction ? \nContraint d’infiltrer des groupes nationalistes troubles et des milieux interlopes pour les besoins de son enquête\, Jeff réalise rapidement – à ses dépens – qu’il ne ressortira pas indemne de cette quête sur les traces de son pote et de leur jeunesse\, tous deux disparus.
URL:https://www.normandielivre.fr/agenda-collaboratif/seance-de-dedicaces-avec-mathieu-pigne/
LOCATION:L’Armitière\, 66 rue Jeanne D'Arc\, Rouen\, 76000
CATEGORIES:Dédicace
ATTACH;FMTTYPE=image/png:https://www.normandielivre.fr/wp-content/uploads/2023/02/INSTAGRAM_visuels_rencontres_2022-2023-4.png
ORGANIZER;CN="L'Armiti&egrave%3Bre":MAILTO:armitiere.cm@gmail.com
END:VEVENT
BEGIN:VEVENT
DTSTART;TZID=Europe/Paris:20230311T140000
DTEND;TZID=Europe/Paris:20230311T170000
DTSTAMP:20260424T072940
CREATED:20230210T083428Z
LAST-MODIFIED:20230210T083428Z
UID:10001500-1678543200-1678554000@www.normandielivre.fr
SUMMARY:Séance de dédicaces avec Emma Green
DESCRIPTION:Le phénomène Emma Green ? \nUn duo d’autrices françaises qui a déjà vendu 800 000 livres. Avec un style drôle et incisif\, des personnages touchants\, un univers ancré dans le réel\, leurs romans font écho à la vie et nous atteignent en plein cœur. \nEntre comédies romantiques et tranches de vie réalistes\, Emma Green nous entraîne dans des tourbillons d’émotions qui font passer du rire aux larmes. \n——– \n« La vie en vrai » – Résumé : \nEt si s’accepter comme on est\, c’était commencer à vivre pour de vrai ? À 17 ans\, Louve est la victime des Royals\, ces élèves\npopulaires qui la harcèlent au lycée comme sur les réseaux sociaux jusqu’à la pousser au pire. Mais quand on touche le fond\, il n’y a plus qu’une chose à faire : remonter.\nAidée de sa famille\, parfois maladroitement\, Louve décide de rendre les coups et se rapproche du plus cruel de tous\, l’intouchable Lazare Nightingale. Sous ses boucles brunes\, Laz ne cherche qu’une chose : qu’on lui fiche la paix. Et tant pis si pour ça\, il doit se montrer odieux. Mais il n’imagine pas encore que sous la fragilité de Louve se cache une guerrière. Ni que son\nattirance pour elle va peu à peu briser ses barrières. \nEmma Green nous plonge dans l’histoire d’un premier amour qui sauve la vie… \n——– \n« Fais-moi une place » – Résumé : \nIl a tous les défauts\, elle les aime déjà. Juliette chante l’amour sur scène tous les soirs\, sans trop y croire. Quand elle se retrouve à la rue\, elle accepte une drôle de mission: jouer les dames de compagnie pour une grand-mère aussi seule que guindée\, en lui chantant ses airs préférés. \nMais une nuit\, un inconnu vient s’installer juste sous les toits\, au dernier étage de cet hôtel particulier perché sur les hauteurs de Montmartre : un mystérieux brun aux cheveux longs\, à la barbe mal taillée\, au regard noir et au verbe rare. \nEntre Juliette\, la chanteuse libre et romantique\, Suzanne\, la vieille dame snob et attachante\, et Laszlo\, le ténébreux aussi attirant\nque dangereux\, cette colocation forcée s’annonce… compliquée. \nÀ moins que chacun accepte de faire une petite place à l’autre? Dans une ambiance douce et joyeuse\, Emma Green parvient à instiller une tension irrépressible entre ses personnages. \nUne histoire pétillante et parfaitement maîtrisée!
URL:https://www.normandielivre.fr/agenda-collaboratif/seance-de-dedicaces-avec-emma-green/
LOCATION:Librairie L’Armitière\, 66 rue Jeanne D'Arc\, Rouen\, 76000
CATEGORIES:Dédicace
ATTACH;FMTTYPE=image/png:https://www.normandielivre.fr/wp-content/uploads/2023/02/Emma_green_insta_facebook.png
ORGANIZER;CN="L'Armiti&egrave%3Bre":MAILTO:armitiere.cm@gmail.com
END:VEVENT
BEGIN:VEVENT
DTSTART;TZID=Europe/Paris:20230318T150000
DTEND;TZID=Europe/Paris:20230318T193000
DTSTAMP:20260424T072940
CREATED:20230124T080813Z
LAST-MODIFIED:20230124T080813Z
UID:10001470-1679151600-1679167800@www.normandielivre.fr
SUMMARY:Séance de dédicaces avec Baptiste Beaulieu
DESCRIPTION:Séance de dédicaces libre \n—————————— \nToutes sortes de corps\, toutes sortes de gens \nMédecin généraliste : c’est la profession de Baptiste Beaulieu et du héros de son histoire\, surnommé Papou. \nUn homme à la retraite qui entreprend un beau matin de raconter à son petit-fils pourquoi les gens sont beaux…\n« Quand j’étais docteur\, je peux te dire que j’en ai vu des corps ! Des tordus\, des blessés\, des noirs\, des blancs\, des maigres\, des gros… Des corps\, j’en ai vu\, et toutes les histoires qui allaient avec ». Car derrière les imperfections se cachent toujours des histoires\, des traces de vie. Alors\, pour Papou\, c’est important de le répéter : l’anatomie n’a pas vocation à être façonnée par la société\, le corps humain n’a pas de modèle parfait. » \nExtrait de la postface de l’auteur :\n« Les coups durs\, les accidents de la vie (…)\, tout cela est constitutif de l’existence humaine. Ces stigmates\, ce sont les vivants symboles de ce que nous avons vécu\, de la manière dont nous l’avons vécu (…). On te dit : « Sois toi-même ! » mais personne ne te dit à quel point c’est dur. (…) Être humain\, vivre\, aimer\, pleurer\, espérer\, ressentir… quoi qu’on en dise\, c’est être héroïque. » \n————————— \nAncien interne à l’hôpital d’Auch\, Baptiste Beaulieu exerce la médecine générale dans un cabinet de groupe en périphérie de Toulouse.\nEn 2012\, il lance son blog « Alors voilà »\, il en tire la matière de son premier recueil éponyme (plus de 60 000 ex. vendus\, traduit en 14 langues)\, où il raconte avec humour\, ironie et humanité son quotidien de médecin et les relations entre les soignants et les soignés. \nDepuis septembre 2018\, il est chroniqueur pour l’émission « Grand bien vous fasse ! » sur France Inter. \nQin Leng est une illustratrice canadienne. Elle publie régulièrement des albums pour enfants\, traduits dans le monde entier. Aux Arènes\, elle est l’autrice d’Un enfant c’est un enfant\, tout simplement et d’Une famille c’est une famille\, tout simplement. Elle vit à Toronto avec son mari et son fils.
URL:https://www.normandielivre.fr/agenda-collaboratif/seance-de-dedicaces-avec-baptiste-beaulieu/
LOCATION:Librairie L’Armitière\, 66 rue Jeanne D'Arc\, Rouen\, 76000
CATEGORIES:Dédicace
ATTACH;FMTTYPE=image/jpeg:https://www.normandielivre.fr/wp-content/uploads/2023/01/AFFICHES_BDManga.jpg
ORGANIZER;CN="Librairie L'Armiti&egrave%3Bre":MAILTO:armitiere.cm@gmail.com
END:VEVENT
BEGIN:VEVENT
DTSTART;TZID=Europe/Paris:20230325T150000
DTEND;TZID=Europe/Paris:20230325T193000
DTSTAMP:20260424T072940
CREATED:20230131T151322Z
LAST-MODIFIED:20230131T151322Z
UID:10001483-1679756400-1679772600@www.normandielivre.fr
SUMMARY:Séance de dédicaces avec Clément Oubrerie
DESCRIPTION:À Yopougon\, les problèmes vont bon train ! Aya tente de concilier un stage à la Solibra et sa relation compliquée avec Didier… mais surtout\, elle s’engage dans la lutte pour les droits des étudiants de l’université de Cocody ! De son côté\, Albert\, rejeté par sa famille\, galère pour se loger. Et ce n’est rien comparé à Bintou\, devenue la star détestée de la série « Gâteuse de foyer » ! Quant à Inno\, exilé en France et sans-papiers\, il n’est pas au bout de ses peines car « Paris est dur comme caillou ». Mais tous comptent prendre en main leur destin\, quitte à mener une petite révolution ! \n————————— \nClément Oubrerie naît en région parisienne en 1966. Après le bac\, il entame des études d’arts graphiques à l’école Penninghen\, qu’il interrompt pout partir aux États-Unis. Il y passe deux années\, exerce toutes sortes de métiers et y voit ses travaux publiés pour la première fois. De retour en France\, il illustre des ouvrages pour la jeunesse et s’ouvre avec succès aux techniques numériques de l’animation. En 2005\, il fait une entrée remarquée dans la bande dessinée avec Aya de Yopougon 1. La justesse décontractée de son trait\, son art de la mise en scène comme des couleurs font des merveilles\, de la série Pablo à l’adaptation des Royaumes du Nord. Il multiplie les collaborations\, avec François Bégaudeau\, Joann Sfar\, Julie Birmant ou Leïla Slimani… mais il travaille parfois en solo\, quand il adapte Zazie dans le métro ou raconte les amours de Voltaire.
URL:https://www.normandielivre.fr/agenda-collaboratif/seance-de-dedicaces-avec-clement-oubrerie/
LOCATION:L’Armitière\, 66 rue Jeanne D'Arc\, Rouen\, 76000
CATEGORIES:Dédicace
ATTACH;FMTTYPE=image/png:https://www.normandielivre.fr/wp-content/uploads/2023/01/INSTAGRAM_visuels_rencontres_2022-2023-2.png
ORGANIZER;CN="L'Armiti&egrave%3Bre":MAILTO:armitiere.cm@gmail.com
END:VEVENT
BEGIN:VEVENT
DTSTART;TZID=Europe/Paris:20230331T090000
DTEND;TZID=Europe/Paris:20230429T200000
DTSTAMP:20260424T072940
CREATED:20230309T160107Z
LAST-MODIFIED:20230309T160306Z
UID:10001520-1680253200-1682798400@www.normandielivre.fr
SUMMARY:Mois du Polar
DESCRIPTION:Du 29/03 au 29 avril 2023 le mois du Polar aura lieu à la librairie Leclerc Espace culturel. Il y aura une exposition gratuite sur le quai des orfèvres et le genre policier ainsi que différentes dédicaces et rencontres. Les lecteurs pourront venir discuter avec grand plaisir avec les auteurs présents. \nLes auteurs invités sont : \n\nGilles Delabie auteur normand connu localement le 31 mars\,\nRodolphe Fontaine le 01 avril\,\nPatrick Morel le 08 avril\,\nMarc Masse pour sa nouveauté le 15 avril\,\nNicko Tackian et Frédéric Lepage pour une rencontre/débat le 21 avril\,\nMr Michotte avec Cécile Delisle le 22/04.\n\nIl y aura des jeux concours et des débats. Venez ! Au cas où voici le numéro de téléphone 02.35.64.36.42.
URL:https://www.normandielivre.fr/agenda-collaboratif/mois-du-polar/
LOCATION:Espace culturel Leclerc à Saint Etienne du Rouvray\, av de la mare aux daims\, saint etienne du rouvray\, 76803
CATEGORIES:Dédicace,Rencontre
ATTACH;FMTTYPE=image/jpeg:https://www.normandielivre.fr/wp-content/uploads/2023/03/IDEEAFFICHEpolar23.jpg
END:VEVENT
END:VCALENDAR