BEGIN:VCALENDAR
VERSION:2.0
PRODID:-//Normandie Livre &amp; Lecture - ECPv6.15.11//NONSGML v1.0//EN
CALSCALE:GREGORIAN
METHOD:PUBLISH
X-WR-CALNAME:Normandie Livre &amp; Lecture
X-ORIGINAL-URL:https://www.normandielivre.fr
X-WR-CALDESC:Évènements pour Normandie Livre &amp; Lecture
REFRESH-INTERVAL;VALUE=DURATION:PT1H
X-Robots-Tag:noindex
X-PUBLISHED-TTL:PT1H
BEGIN:VTIMEZONE
TZID:Europe/Paris
BEGIN:DAYLIGHT
TZOFFSETFROM:+0100
TZOFFSETTO:+0200
TZNAME:CEST
DTSTART:20250330T010000
END:DAYLIGHT
BEGIN:STANDARD
TZOFFSETFROM:+0200
TZOFFSETTO:+0100
TZNAME:CET
DTSTART:20251026T010000
END:STANDARD
BEGIN:DAYLIGHT
TZOFFSETFROM:+0100
TZOFFSETTO:+0200
TZNAME:CEST
DTSTART:20260329T010000
END:DAYLIGHT
BEGIN:STANDARD
TZOFFSETFROM:+0200
TZOFFSETTO:+0100
TZNAME:CET
DTSTART:20261025T010000
END:STANDARD
BEGIN:DAYLIGHT
TZOFFSETFROM:+0100
TZOFFSETTO:+0200
TZNAME:CEST
DTSTART:20270328T010000
END:DAYLIGHT
BEGIN:STANDARD
TZOFFSETFROM:+0200
TZOFFSETTO:+0100
TZNAME:CET
DTSTART:20271031T010000
END:STANDARD
END:VTIMEZONE
BEGIN:VEVENT
DTSTART;TZID=Europe/Paris:20260322T160000
DTEND;TZID=Europe/Paris:20260322T170000
DTSTAMP:20260421T010406
CREATED:20260318T085329Z
LAST-MODIFIED:20260318T085329Z
UID:10003420-1774195200-1774198800@www.normandielivre.fr
SUMMARY:Concert poétique avec le poète Alexis Pelletier sur la musique de Dominique Lemaître
DESCRIPTION:Célébrée en mars\, le Printemps des poètes décline pour son édition 2026\, la thématique de la liberté. À Paluel\, le rendez-vous est célébré au Clos des fées avec un concert poétique de l’ensemble musical Akantha dirigé par Jérôme Polack. La formation va interpréter trois compositions de Dominique Lemaître sur des textes du poète Alexis Pelletier qui\, pour l’occasion\, en sera le récitant. Ces deux créateurs collaborent depuis 2006 et sont à l’origine de cette forme singulière de « concert poétique ». \nAu sommaire du programme\, les voix parlées s’associeront à des voix chantées par des sopranos comme une invitation à la contemplation. En se conjuguant à la poésie\, la musique sera interprétée par les huit instrumentistes d’Akantha (flûte\, clarinette\, percussion\, guitare\, harpe\, violon\, alto\, violoncelle). \nIdentifiée pour son orientation vers les arts plastiques\, la danse et plus particulièrement la musique contemporaine\, la poésie Alexis Pelletier est parfois comparée à celle de Blaise Cendrars ou d’Apollinaire. L’auteur vit près de Rouen où il enseigne les lettres classiques et publie régulièrement des articles relatifs à la littérature française pour de prestigieux éditeurs. \nToujours curieux de rencontres auprès d’une diversité de publics\, Alexis Pelletier répondra à l’issue du concert\, à quelques questions de Dominique Lemaître\, son complice artistique.
URL:https://www.normandielivre.fr/agenda-collaboratif/concert-poetique-avec-le-poete-alexis-pelletier-sur-la-musique-de-dominique-lemaitre/
LOCATION:le clos des fées\, 24\, chemin des falaises\, Paluel\, 76450\, France
CATEGORIES:Concert
ATTACH;FMTTYPE=image/jpeg:https://www.normandielivre.fr/wp-content/uploads/2026/03/autoportrait-Alexis-Pelletier-scaled.jpg
ORGANIZER;CN="Le Clos des F&eacute%3Bes":MAILTO:accueil.closdesfees@mairie-paluel.fr
END:VEVENT
END:VCALENDAR