BEGIN:VCALENDAR
VERSION:2.0
PRODID:-//Normandie Livre &amp; Lecture - ECPv6.15.11//NONSGML v1.0//EN
CALSCALE:GREGORIAN
METHOD:PUBLISH
X-WR-CALNAME:Normandie Livre &amp; Lecture
X-ORIGINAL-URL:https://www.normandielivre.fr
X-WR-CALDESC:Évènements pour Normandie Livre &amp; Lecture
REFRESH-INTERVAL;VALUE=DURATION:PT1H
X-Robots-Tag:noindex
X-PUBLISHED-TTL:PT1H
BEGIN:VTIMEZONE
TZID:Europe/Paris
BEGIN:DAYLIGHT
TZOFFSETFROM:+0100
TZOFFSETTO:+0200
TZNAME:CEST
DTSTART:20250330T010000
END:DAYLIGHT
BEGIN:STANDARD
TZOFFSETFROM:+0200
TZOFFSETTO:+0100
TZNAME:CET
DTSTART:20251026T010000
END:STANDARD
BEGIN:DAYLIGHT
TZOFFSETFROM:+0100
TZOFFSETTO:+0200
TZNAME:CEST
DTSTART:20260329T010000
END:DAYLIGHT
BEGIN:STANDARD
TZOFFSETFROM:+0200
TZOFFSETTO:+0100
TZNAME:CET
DTSTART:20261025T010000
END:STANDARD
BEGIN:DAYLIGHT
TZOFFSETFROM:+0100
TZOFFSETTO:+0200
TZNAME:CEST
DTSTART:20270328T010000
END:DAYLIGHT
BEGIN:STANDARD
TZOFFSETFROM:+0200
TZOFFSETTO:+0100
TZNAME:CET
DTSTART:20271031T010000
END:STANDARD
END:VTIMEZONE
BEGIN:VEVENT
DTSTART;TZID=Europe/Paris:20260125T160000
DTEND;TZID=Europe/Paris:20260125T180000
DTSTAMP:20260421T050212
CREATED:20251118T153253Z
LAST-MODIFIED:20251118T162813Z
UID:10002617-1769356800-1769364000@www.normandielivre.fr
SUMMARY:Marathon de lecture avec les éditions L'Oiseau Parleur
DESCRIPTION:Plongez au cœur de la mémoire avec Les Sous-vivants\, le roman de Corinne Le Bars !\nLes éditions L’Oiseau Parleur vous invitent à un marathon de lecture participatif (10 lectures maximum) autour du thème « mémoires »\, un moment de partage qui se prolongera par une rencontre avec l’autrice et son éditeur\, avant de se clôturer par un mini-concert de chansons françaises.  \nAvec Corinne Le Bars\, autrice\, Alain David\, éditeur et Dominique Achille\, pianiste \nRenseignements et réservation au 02 31 26 30 32. \nVente de livres assurée par la librairie La Page qui tourne\, Verson. \nRencontre organisée dans le cadre de l’événement Lire en hiver et des Nuits de la lecture. \nLire en Hiver\, c’est le meilleur moment pour découvrir les actualités des auteurs\, autrices et maisons d’édition normands\, au plus près de chez vous. Du 20 janvier au 8 février\, partez à la découverte d’univers artistiques et littéraires variés\, dans les bibliothèques et librairies de Normandie. Renseignements : https://www.normandielivre.fr/lire-en-hiver/ 
URL:https://www.normandielivre.fr/agenda-collaboratif/marathon-de-lecture-avec-les-editions-loiseau-parleur/
LOCATION:Médiathèque de Fontaine-Etoupefour\, Allée du Stade Jules Quesnel\, Fontaine-Etoupefour\, 14790
CATEGORIES:Concert,Lecture,Lire en hiver,Nuits de la lecture,Rencontre
ATTACH;FMTTYPE=image/png:https://www.normandielivre.fr/wp-content/uploads/2025/11/reseaux-sociaux-_-loiseau-parleur.png
END:VEVENT
END:VCALENDAR