BEGIN:VCALENDAR
VERSION:2.0
PRODID:-//Normandie Livre &amp; Lecture - ECPv6.15.11//NONSGML v1.0//EN
CALSCALE:GREGORIAN
METHOD:PUBLISH
X-WR-CALNAME:Normandie Livre &amp; Lecture
X-ORIGINAL-URL:https://www.normandielivre.fr
X-WR-CALDESC:Évènements pour Normandie Livre &amp; Lecture
REFRESH-INTERVAL;VALUE=DURATION:PT1H
X-Robots-Tag:noindex
X-PUBLISHED-TTL:PT1H
BEGIN:VTIMEZONE
TZID:Europe/Paris
BEGIN:DAYLIGHT
TZOFFSETFROM:+0100
TZOFFSETTO:+0200
TZNAME:CEST
DTSTART:20230326T010000
END:DAYLIGHT
BEGIN:STANDARD
TZOFFSETFROM:+0200
TZOFFSETTO:+0100
TZNAME:CET
DTSTART:20231029T010000
END:STANDARD
BEGIN:DAYLIGHT
TZOFFSETFROM:+0100
TZOFFSETTO:+0200
TZNAME:CEST
DTSTART:20240331T010000
END:DAYLIGHT
BEGIN:STANDARD
TZOFFSETFROM:+0200
TZOFFSETTO:+0100
TZNAME:CET
DTSTART:20241027T010000
END:STANDARD
BEGIN:DAYLIGHT
TZOFFSETFROM:+0100
TZOFFSETTO:+0200
TZNAME:CEST
DTSTART:20250330T010000
END:DAYLIGHT
BEGIN:STANDARD
TZOFFSETFROM:+0200
TZOFFSETTO:+0100
TZNAME:CET
DTSTART:20251026T010000
END:STANDARD
END:VTIMEZONE
BEGIN:VEVENT
DTSTART;TZID=Europe/Paris:20240426T190000
DTEND;TZID=Europe/Paris:20240426T190000
DTSTAMP:20260424T013143
CREATED:20240422T074937Z
LAST-MODIFIED:20240422T074937Z
UID:10001842-1714158000-1714158000@www.normandielivre.fr
SUMMARY:Concert folk Le Braz
DESCRIPTION:La guitare-voix de l’auteur-compositeur-interprète du groupe rouennais Huit Nuits\, Pierrick Le Bras\, se situe non loin d’une ballade de Léonard Cohen ou d’un roman de Stephan Zweig. \nLE BRAZ parvient à saisir cet endroit mystérieux où vulnérabilité et témérité se mêlent\, où la fragilité n’est plus un frein à la lucidité.\nFolk arrachée au giron du XXIe siècle\, LE BRAZ porte les stigmates d’un monde peuplé de paradoxes.
URL:https://www.normandielivre.fr/agenda-collaboratif/concert-folk-le-braz/
LOCATION:La Baraque\, 59 rue du Pré de la Bataille\, Rouen\, 76000
CATEGORIES:Concert
ATTACH;FMTTYPE=image/jpeg:https://www.normandielivre.fr/wp-content/uploads/2024/04/1628782168538-cb7fed38-5578-4e79-8fac-c26e37834aba-scaled.jpg
ORGANIZER;CN="Baraques Walden":MAILTO:assobaraqueswalden@gmail.com
END:VEVENT
BEGIN:VEVENT
DTSTART;TZID=Europe/Paris:20240427T190000
DTEND;TZID=Europe/Paris:20240427T223000
DTSTAMP:20260424T013143
CREATED:20240403T140048Z
LAST-MODIFIED:20240403T140048Z
UID:10001812-1714244400-1714257000@www.normandielivre.fr
SUMMARY:Concert Uni song chez Thé bouquins
DESCRIPTION:Uni song en live.\nMusicien talentueux et chanteuse à voix.\nPrésenteront leurs compositions lors de la soirée chez Thé bouquins.
URL:https://www.normandielivre.fr/agenda-collaboratif/concert-uni-song-chez-the-bouquins/
LOCATION:the bouquins\, 2 rue aux juifs\, AUMALE\, 76390
CATEGORIES:Concert
ATTACH;FMTTYPE=image/jpeg:https://www.normandielivre.fr/wp-content/uploads/2024/04/Screenshot_20240403_085619_Google.jpg
ORGANIZER;CN="the bouquins":MAILTO:Thebouquins@gmail.com
END:VEVENT
END:VCALENDAR