BEGIN:VCALENDAR
VERSION:2.0
PRODID:-//Normandie Livre &amp; Lecture - ECPv6.15.11//NONSGML v1.0//EN
CALSCALE:GREGORIAN
METHOD:PUBLISH
X-WR-CALNAME:Normandie Livre &amp; Lecture
X-ORIGINAL-URL:https://www.normandielivre.fr
X-WR-CALDESC:Évènements pour Normandie Livre &amp; Lecture
REFRESH-INTERVAL;VALUE=DURATION:PT1H
X-Robots-Tag:noindex
X-PUBLISHED-TTL:PT1H
BEGIN:VTIMEZONE
TZID:Europe/Paris
BEGIN:DAYLIGHT
TZOFFSETFROM:+0100
TZOFFSETTO:+0200
TZNAME:CEST
DTSTART:20220327T010000
END:DAYLIGHT
BEGIN:STANDARD
TZOFFSETFROM:+0200
TZOFFSETTO:+0100
TZNAME:CET
DTSTART:20221030T010000
END:STANDARD
BEGIN:DAYLIGHT
TZOFFSETFROM:+0100
TZOFFSETTO:+0200
TZNAME:CEST
DTSTART:20230326T010000
END:DAYLIGHT
BEGIN:STANDARD
TZOFFSETFROM:+0200
TZOFFSETTO:+0100
TZNAME:CET
DTSTART:20231029T010000
END:STANDARD
BEGIN:DAYLIGHT
TZOFFSETFROM:+0100
TZOFFSETTO:+0200
TZNAME:CEST
DTSTART:20240331T010000
END:DAYLIGHT
BEGIN:STANDARD
TZOFFSETFROM:+0200
TZOFFSETTO:+0100
TZNAME:CET
DTSTART:20241027T010000
END:STANDARD
END:VTIMEZONE
BEGIN:VEVENT
DTSTART;TZID=Europe/Paris:20231109T190000
DTEND;TZID=Europe/Paris:20231109T203000
DTSTAMP:20260424T111240
CREATED:20231005T075906Z
LAST-MODIFIED:20231005T075906Z
UID:10001434-1699556400-1699561800@www.normandielivre.fr
SUMMARY:Récital littéraire de l'Orchestre régional de Normandie
DESCRIPTION:« Consolation : Notre besoin de consolation est impossible à rassasier » \nRécital littéraire de l’Orchestre régional de Normandie. D’après le texte de Stig Dagerman (1923-1954) et Jean-Charles Richard (composition). \nStig Dagerman\, l’un des écrivains suédois les plus importants de la première moitié du XX ème siècle\, rédige l’essai « Notre besoin de consolation est impossible à rassasier » en 1952\, avant de sombrer dans le silence et de se donner la mort deux ans plus tard\, à l’âge de 31 ans. Ce texte puissant et court fait figure aujourd’hui de classique de la littérature scandinave qui raisonne encore de nos jours et brille d’un inoubliable éclat. Ce récit est celui d’un homme dans l’incapacité de vivre\, privé de repères\, en quête de liberté et d’indépendance : « Le signe définitif de ma liberté est le fait que ma peur laisse la place à la joie tranquille de l’indépendance. On dirait que j’ai besoin de la dépendance pour pouvoir finalement connaître la consolation d’être un homme libre\, et c’est certainement vrai. » \nSpectacle gratuit sous réservation à partir du 17 octobre auprès de la médiathèque. Dans le cadre du festival Les Boréales. \nJean-Charles Richard\, composition l Création\, commande de l’Orchestre Régionale de Normandie 2022 \nBruno Boulzaguet\, comédien et metteur en scène \nJean-Charles Richard\, saxophones \nCorinne Basseux-Béguin\, violon et Vincent Vaccaro\, violoncelle de l’Orchestre Régionale de Normandie \nL’Orchestre Régional de Normandie est soutenu et accompagné par le Conseil Régional de Normandie\, par le Ministère de la Culture – Direction Régionale des Affaires Culturelles de Normandie – avec la participation des Conseils Départementaux de la Manche\, du Calvados et de l’Orne. L’Orchestre Régional de Normandie est accueilli en résidence depuis 2005 par la Ville de Mondeville et la Renaissance en qualité de partenaire artistique privilégié.
URL:https://www.normandielivre.fr/agenda-collaboratif/recital-litteraire-de-lorchestre-regional-de-normandie/
LOCATION:Médiathèque Jacques-Prévert\, Place du Commandant Charcot\, Dives-sur-Mer\, 14160
CATEGORIES:Concert
ATTACH;FMTTYPE=image/jpeg:https://www.normandielivre.fr/wp-content/uploads/2023/10/202311-recital_litteraire-scaled.jpg
END:VEVENT
END:VCALENDAR