BEGIN:VCALENDAR
VERSION:2.0
PRODID:-//Normandie Livre &amp; Lecture - ECPv6.15.11//NONSGML v1.0//EN
CALSCALE:GREGORIAN
METHOD:PUBLISH
X-ORIGINAL-URL:https://www.normandielivre.fr
X-WR-CALDESC:Évènements pour Normandie Livre &amp; Lecture
REFRESH-INTERVAL;VALUE=DURATION:PT1H
X-Robots-Tag:noindex
X-PUBLISHED-TTL:PT1H
BEGIN:VTIMEZONE
TZID:Europe/Paris
BEGIN:DAYLIGHT
TZOFFSETFROM:+0100
TZOFFSETTO:+0200
TZNAME:CEST
DTSTART:20210328T010000
END:DAYLIGHT
BEGIN:STANDARD
TZOFFSETFROM:+0200
TZOFFSETTO:+0100
TZNAME:CET
DTSTART:20211031T010000
END:STANDARD
BEGIN:DAYLIGHT
TZOFFSETFROM:+0100
TZOFFSETTO:+0200
TZNAME:CEST
DTSTART:20220327T010000
END:DAYLIGHT
BEGIN:STANDARD
TZOFFSETFROM:+0200
TZOFFSETTO:+0100
TZNAME:CET
DTSTART:20221030T010000
END:STANDARD
BEGIN:DAYLIGHT
TZOFFSETFROM:+0100
TZOFFSETTO:+0200
TZNAME:CEST
DTSTART:20230326T010000
END:DAYLIGHT
BEGIN:STANDARD
TZOFFSETFROM:+0200
TZOFFSETTO:+0100
TZNAME:CET
DTSTART:20231029T010000
END:STANDARD
END:VTIMEZONE
BEGIN:VEVENT
DTSTART;TZID=Europe/Paris:20220919T140000
DTEND;TZID=Europe/Paris:20220919T170000
DTSTAMP:20260419T174547
CREATED:20220905T114127Z
LAST-MODIFIED:20220905T114258Z
UID:10001160-1663596000-1663606800@www.normandielivre.fr
SUMMARY:Apprendre à lire et prendre confiance au travail
DESCRIPTION:Cet événement est ouvert à tous\, stagiaires de la formation\, salariés de chantier d’insertion\, d’association intermédiaire\, de l’insertion sociale et professionnelle\, jeunes du CEJ. \nIntervention d’Aline Le Guluche pour témoigner de son parcours d’apprentissage de la lecture et l’écriture en lien avec les besoins de sa progression en emploi. Après plusieurs tentatives\, le moment dans sa vie était venu de passer le cap\, prendre le temps et mettre du sens sur son besoin de lire\, écrire\, parler\, communiquer librement. \nUn échange avec des questions\, des remarques est ensuite programmé pour que le public puisse avoir des précisions et être libre de s’exprimer. S’en suivra un temps informel avec boissons et gourmandises. \nÉvenement organisé avec la bibliothèque départementale de la Manche \nPour en savoir plus : \nSabine HAMARD – centredeformation.passerelles@gmail.com \nTél. 02.33.58.10.10
URL:https://www.normandielivre.fr/agenda-collaboratif/apprendre-a-lire-et-prendre-confiance-au-travail/
LOCATION:Passerelles Vers l’Emploi\, 67 rue du commandant Bindel\, Avranches\, 50300
CATEGORIES:Action contre l'illettrisme,Rencontre
ATTACH;FMTTYPE=image/jpeg:https://www.normandielivre.fr/wp-content/uploads/2022/08/J-ai-appris-a-lire-a-50-ans.jpeg
END:VEVENT
BEGIN:VEVENT
DTSTART;TZID=Europe/Paris:20220917T150000
DTEND;TZID=Europe/Paris:20220917T170000
DTSTAMP:20260419T174547
CREATED:20220829T194504Z
LAST-MODIFIED:20220829T194504Z
UID:10001288-1663426800-1663434000@www.normandielivre.fr
SUMMARY:Témoignage d’Aline Le Guluche
DESCRIPTION:Témoignage d’Aline Le Guluche\, pour son livre J’ai appris à lire à 50 ans aux éditions Prisma\, le samedi 17 septembre à 15h en Salle Paul Eluard\, en partenariat avec L’INFREP. \nVentes de livres et dédicaces avec la Librairie Ryst.  \nUne discussion avec le public et les stagiaires en cours d’apprentissage de la lecture est prévue pour une sensibilisation à cette situation. \nPour en savoir plus : \nVéronique MERLIN\nveronique.merlin@cherbourg.fr\nTél. 02.33.23.39.41 \n  \nCo-organisateur(s ): INFREP\, CARIF-OREF
URL:https://www.normandielivre.fr/agenda-collaboratif/temoignage-daline-le-guluche/
LOCATION:Bibliothèque Jacques Prévert (Cherbourg)\, Place de la laïcité\, Cherbourg en Cotentin\, 50100\, France
CATEGORIES:Action contre l'illettrisme,Rencontre
ATTACH;FMTTYPE=image/jpeg:https://www.normandielivre.fr/wp-content/uploads/2022/08/J-ai-appris-a-lire-a-50-ans.jpeg
END:VEVENT
BEGIN:VEVENT
DTSTART;TZID=Europe/Paris:20220916T180000
DTEND;TZID=Europe/Paris:20220916T200000
DTSTAMP:20260419T174547
CREATED:20220905T074808Z
LAST-MODIFIED:20220905T084040Z
UID:10001156-1663351200-1663358400@www.normandielivre.fr
SUMMARY:Projection du film « Illettré »
DESCRIPTION:Léo\, la trentaine\, est illettré. Un secret qu’il porte comme un fardeau. Un jour\, il est victime d’un accident à l’usine où il est ouvrier\, un drame causé par son handicap qu’il cachait à tous. \nLa projection du film sera suivie d’une rencontre avec Aïcha Talbi\, chargée de projets du Centre de Ressources Illettrisme du Carif-Oref de Normandie. \nPour en savoir plus : \nManon LEMEASLE – manon.lemeasle@rouen.fr \nTél. 02.76.08.86.78
URL:https://www.normandielivre.fr/agenda-collaboratif/projection-du-film-illettre/
LOCATION:Bibliothèque Simone de Beauvoir (Rouen)\, Pôle culturel Grammont - Rue Henri II Plantagenêt\, Rouen\, 76100
CATEGORIES:Action contre l'illettrisme,Projection
ATTACH;FMTTYPE=image/jpeg:https://www.normandielivre.fr/wp-content/uploads/2022/08/illettré.jpeg
END:VEVENT
BEGIN:VEVENT
DTSTART;TZID=Europe/Paris:20220916T180000
DTEND;TZID=Europe/Paris:20220916T193000
DTSTAMP:20260419T174547
CREATED:20220829T193637Z
LAST-MODIFIED:20220829T193709Z
UID:10001287-1663351200-1663356600@www.normandielivre.fr
SUMMARY:Témoignage : Vivre l'illettrisme
DESCRIPTION:Rencontre avec Aline Le Guluche\, autrice du livre J’ai appris à lire à 50 ans (éditions Prisma\, 2020)\, qui sera animée par Sandra Dos Santos\, référente du Centre ressources illettrisme du Carif-Oref de Normandie. \nPour en savoir plus : \nCyrielle VINCENT\ncyrielle.vincent@colombelles.fr\nTél. 02.31.72.27.46 \n 
URL:https://www.normandielivre.fr/agenda-collaboratif/temoignage-vivre-lillettrisme/
LOCATION:Médiathèque Le Phénix à Colombelles\, 10 rue Elsa Triolet\, COLOMBELLES\, 14460
CATEGORIES:Action contre l'illettrisme,Rencontre
ATTACH;FMTTYPE=image/jpeg:https://www.normandielivre.fr/wp-content/uploads/2022/08/J-ai-appris-a-lire-a-50-ans.jpeg
END:VEVENT
BEGIN:VEVENT
DTSTART;TZID=Europe/Paris:20220915T143000
DTEND;TZID=Europe/Paris:20220915T160000
DTSTAMP:20260419T174547
CREATED:20220829T192451Z
LAST-MODIFIED:20220829T192451Z
UID:10001284-1663252200-1663257600@www.normandielivre.fr
SUMMARY:Rencontre-dédicace avec Aline Le Guluche
DESCRIPTION:Dans son livre J’ai appris à lire à 50 ans\, Aline Le Guluche raconte son combat pour sortir de l’illettrisme après des années de silence et de honte. C’est le récit d’une émancipation et d’une libération par les mots\, ouvert sur le champ des possibles. \nVenez à la rencontre de cette femme dont le parcours constitue une véritable leçon de vie et d’espoir. \nAu programme : \nRencontre dédicace avec Aline Le Guluche en association avec le CARIF-OREF de Normandie \nLa rencontre sera suivie d’une séance de dédicaces en partenariat avec la librairie La Pléiade d’Elbeuf. \n  \nPour en savoir plus : \nSandrine CHIRON\nsandrine.chiron@mairie-elbeuf.fr\nTél. 02.35.77.73.00
URL:https://www.normandielivre.fr/agenda-collaboratif/rencontre-dedicace-avec-aline-le-guluche/
LOCATION:Médiathèque La Navette à Elbeuf\, 5 rue Michelet\, Elbeuf\, 76500\, France
CATEGORIES:Action contre l'illettrisme,Rencontre
ATTACH;FMTTYPE=image/jpeg:https://www.normandielivre.fr/wp-content/uploads/2022/08/J-ai-appris-a-lire-a-50-ans.jpeg
END:VEVENT
BEGIN:VEVENT
DTSTART;VALUE=DATE:20220915
DTEND;VALUE=DATE:20220918
DTSTAMP:20260419T174547
CREATED:20220829T133913Z
LAST-MODIFIED:20220829T133913Z
UID:10001283-1663200000-1663459199@www.normandielivre.fr
SUMMARY:Expo-quiz – L’illettrisme\, parlons-en !
DESCRIPTION:Cette expo-quiz\, proposée par le Carif-Oref de Normandie\, a pour objectif la découverte simple et ludique de l’illettrisme pour susciter la réflexion\, les échanges et le débat. \nVisites libres et accompagnées pendant les horaires d’ouvertures de la bibliothèque. \nVisite guidée le samedi 17 septembre à 11h. \n  \nPOUR EN SAVOIR PLUS \nMarjorie LESAGE\nm.lesage@caenlamer.fr\nTél. 02.14.37.29.87
URL:https://www.normandielivre.fr/agenda-collaboratif/expo-quiz-lillettrisme-parlons-en/
LOCATION:Bibliothèque du Chemin Vert à Caen\, 6 rue Jean Racine\, CAEN\, 14000
CATEGORIES:Action contre l'illettrisme
ATTACH;FMTTYPE=image/jpeg:https://www.normandielivre.fr/wp-content/uploads/2022/08/Expo_illetrisme_rollup_Errefom_versiondef_p4.jpeg
END:VEVENT
BEGIN:VEVENT
DTSTART;TZID=Europe/Paris:20220914T150000
DTEND;TZID=Europe/Paris:20220914T170000
DTSTAMP:20260419T174547
CREATED:20220905T075154Z
LAST-MODIFIED:20220905T075154Z
UID:10001159-1663167600-1663174800@www.normandielivre.fr
SUMMARY:Rencontre avec Aline Le Guluche
DESCRIPTION:Autrice du livre « J’ai appris à lire à 50 ans »\, militante pour la cause de l’illettrisme\, Aline Le Guluche témoigne de son expérience dans le but de sensibiliser et briser ce tabou. \nLa rencontre sera suivie d’une dédicace de son ouvrage. \nPour en savoir plus : \nManon LEMEASLE – manon.lemeasle@rouen.fr \nTél. 02.76.08.86.78
URL:https://www.normandielivre.fr/agenda-collaboratif/rencontre-avec-aline-le-guluche/
LOCATION:Bibliothèque Simone de Beauvoir (Rouen)\, Pôle culturel Grammont - Rue Henri II Plantagenêt\, Rouen\, 76100
CATEGORIES:Action contre l'illettrisme,Rencontre
ATTACH;FMTTYPE=image/jpeg:https://www.normandielivre.fr/wp-content/uploads/2022/08/J-ai-appris-a-lire-a-50-ans.jpeg
END:VEVENT
BEGIN:VEVENT
DTSTART;TZID=Europe/Paris:20220914T100000
DTEND;TZID=Europe/Paris:20220914T120000
DTSTAMP:20260419T174547
CREATED:20220829T133006Z
LAST-MODIFIED:20220829T133042Z
UID:10001282-1663149600-1663156800@www.normandielivre.fr
SUMMARY:Table ronde autour de la sensibilisation et de la prévention de l’illettrisme
DESCRIPTION:Table ronde autour de l’illettrisme pour sensibiliser les personnes sur cette thématique. \nEn présence de professionnels de santé\, éducateurs de Gournay-en-Bray. \nManifestation ouverte au public \n  \nPOUR EN SAVOIR PLUS \nPauline LAURELLI\npauline.laurelli@gournay-en-bray.fr\nTél. 02.32.89.53.86
URL:https://www.normandielivre.fr/agenda-collaboratif/table-ronde-autour-de-la-sensibilisation-et-de-la-prevention-de-lillettrisme/
LOCATION:Médiathèque Michel Bussi à Gournay en Bray\, 44 avenue du Général Leclerc\, GOURNAY-EN-BRAY\, 76220\, France
CATEGORIES:Action contre l'illettrisme
ATTACH;FMTTYPE=image/jpeg:https://www.normandielivre.fr/wp-content/uploads/2022/08/Origami-JNAI-1.jpeg
END:VEVENT
BEGIN:VEVENT
DTSTART;TZID=Europe/Paris:20220910T103000
DTEND;TZID=Europe/Paris:20220910T120000
DTSTAMP:20260419T174547
CREATED:20220829T132031Z
LAST-MODIFIED:20220829T132229Z
UID:10001281-1662805800-1662811200@www.normandielivre.fr
SUMMARY:À la découverte du Facile à Lire
DESCRIPTION:Cette rencontre sera consacrée à la découverte de nos coups de cœur parmi les collections Facile à lire. \nInscription au 02 14 37 29 85. \nManifestation ouverte au public \n  \nPour en savoir plus : \nMélanie MOTTE\nm.motte@caenlamer.fr
URL:https://www.normandielivre.fr/agenda-collaboratif/a-la-decouverte-du-facile-a-lire/
LOCATION:Bibliothèque de la Maladrerie à Caen\, 60 rue Général Moulin\, CAEN\, 14000
CATEGORIES:Action contre l'illettrisme
ATTACH;FMTTYPE=image/jpeg:https://www.normandielivre.fr/wp-content/uploads/2022/08/FAL.jpeg
END:VEVENT
BEGIN:VEVENT
DTSTART;TZID=Europe/Paris:20220908T130000
DTEND;TZID=Europe/Paris:20220917T180000
DTSTAMP:20260419T174547
CREATED:20220829T125659Z
LAST-MODIFIED:20220829T125717Z
UID:10001280-1662642000-1663437600@www.normandielivre.fr
SUMMARY:Présentation des collections Facile à Lire et livres en français langue étrangère
DESCRIPTION:Présentation des collections Facile à Lire (FAL) et Livres en français langue étrangère (FLE). \nLa situation géographique du port de Cherbourg implique une fréquentation d’associations en direction de migrants en apprentissage. \nVisite organisée pour découvrir la bibliothèque comme lieu de vie et de loisirs\, en toute indépendance\, gratuite et ouverte à tous. \nUn partenariat accru est en cours de constitution avec l’INFREP. Un contact a été pris avec la RH de la ville de Cherbourg\, en direction des personnes employées en situation d’illettrisme. \n  \nPOUR EN SAVOIR PLUS \nVéronique MERLIN\nveronique.merlin@cherbourg.fr\nTél. 02.33.23.39.41
URL:https://www.normandielivre.fr/agenda-collaboratif/presentation-des-collections-facile-a-lire-et-livres-en-francais-langue-etrangere/
LOCATION:Bibliothèque Jacques Prévert (Cherbourg)\, Place de la laïcité\, Cherbourg en Cotentin\, 50100\, France
CATEGORIES:Action contre l'illettrisme
ATTACH;FMTTYPE=image/jpeg:https://www.normandielivre.fr/wp-content/uploads/2022/08/FAL.jpeg
END:VEVENT
END:VCALENDAR