BEGIN:VCALENDAR
VERSION:2.0
PRODID:-//Normandie Livre &amp; Lecture - ECPv6.15.11//NONSGML v1.0//EN
CALSCALE:GREGORIAN
METHOD:PUBLISH
X-ORIGINAL-URL:https://www.normandielivre.fr
X-WR-CALDESC:Évènements pour Normandie Livre &amp; Lecture
REFRESH-INTERVAL;VALUE=DURATION:PT1H
X-Robots-Tag:noindex
X-PUBLISHED-TTL:PT1H
BEGIN:VTIMEZONE
TZID:Europe/Paris
BEGIN:DAYLIGHT
TZOFFSETFROM:+0100
TZOFFSETTO:+0200
TZNAME:CEST
DTSTART:20230326T010000
END:DAYLIGHT
BEGIN:STANDARD
TZOFFSETFROM:+0200
TZOFFSETTO:+0100
TZNAME:CET
DTSTART:20231029T010000
END:STANDARD
BEGIN:DAYLIGHT
TZOFFSETFROM:+0100
TZOFFSETTO:+0200
TZNAME:CEST
DTSTART:20240331T010000
END:DAYLIGHT
BEGIN:STANDARD
TZOFFSETFROM:+0200
TZOFFSETTO:+0100
TZNAME:CET
DTSTART:20241027T010000
END:STANDARD
BEGIN:DAYLIGHT
TZOFFSETFROM:+0100
TZOFFSETTO:+0200
TZNAME:CEST
DTSTART:20250330T010000
END:DAYLIGHT
BEGIN:STANDARD
TZOFFSETFROM:+0200
TZOFFSETTO:+0100
TZNAME:CET
DTSTART:20251026T010000
END:STANDARD
END:VTIMEZONE
BEGIN:VEVENT
DTSTART;VALUE=DATE:20240908
DTEND;VALUE=DATE:20240916
DTSTAMP:20260423T130230
CREATED:20240904T142743Z
LAST-MODIFIED:20240904T142743Z
UID:10001960-1725753600-1726444799@www.normandielivre.fr
SUMMARY:Exposition "L'illettrisme\, parlons-en !" à Étrépagny
DESCRIPTION:Exposition présentée à la Ludo-Médiathèque communautaire d’Étrépagny.  \nCette exposition sera l’occasion de discuter de ce tabou avec les bibliothécaires présents.  \nTout public\, accès libre  \nDans le cadre des Journées nationales d’action contre l’illettrisme portées par l’ANLCI
URL:https://www.normandielivre.fr/agenda-collaboratif/exposition-lillettrisme-parlons-en-a-etrepagny/
LOCATION:Médiathèque Etrépagny\, - 3 Rue Maison de Vatimesnil\, Étrépagny\, 27150
CATEGORIES:Action contre l'illettrisme,Exposition
ATTACH;FMTTYPE=image/png:https://www.normandielivre.fr/wp-content/uploads/2024/09/illettrisme-parlons-en.png
END:VEVENT
BEGIN:VEVENT
DTSTART;VALUE=DATE:20240908
DTEND;VALUE=DATE:20240916
DTSTAMP:20260423T130230
CREATED:20240904T143009Z
LAST-MODIFIED:20240904T143009Z
UID:10001961-1725753600-1726444799@www.normandielivre.fr
SUMMARY:Présentation d’un abécédaire créé par un groupe de primo-arrivants à Cherbourg-en-Cotentin
DESCRIPTION:La bibliothèque municipale Jacques Prévert accueillera courant septembre 2024\, l’exposition du travail d’Arno Brignon.  \nDans le cadre des JNAI et en écho au reportage d’Arno Brignon\, la bibliothèque Jacques Prévert présentera l’abécédaire sensible et géographique du quartier dans lequel elle s’inscrit\, réalisé par le public primo arrivant de l’INFREP. Ce travail sera l’aboutissement de trois temps de rencontres de juillet à septembre 2024 entre la bibliothèque et l’INFREP.  \nAccès libre  \nDans le cadre des Journées nationales d’action contre l’illettrisme portées par l’ANLCI
URL:https://www.normandielivre.fr/agenda-collaboratif/presentation-dun-abecedaire-cree-par-un-groupe-de-primo-arrivants-a-cherbourg-en-cotentin/
LOCATION:Bibliothèque Jacques Prévert (Cherbourg)\, Place de la laïcité\, Cherbourg en Cotentin\, 50100\, France
CATEGORIES:Action contre l'illettrisme,Exposition
ATTACH;FMTTYPE=image/jpeg:https://www.normandielivre.fr/wp-content/uploads/2022/08/Origami-JNAI-1.jpeg
END:VEVENT
BEGIN:VEVENT
DTSTART;TZID=Europe/Paris:20240909T180000
DTEND;TZID=Europe/Paris:20240909T200000
DTSTAMP:20260423T130230
CREATED:20240902T140032Z
LAST-MODIFIED:20240902T140754Z
UID:10001949-1725904800-1725912000@www.normandielivre.fr
SUMMARY:Rencontre avec Aline Le Guluche à Gournay-en-Bray
DESCRIPTION:Rencontre avec Aline Le Guluche\, autrice des livres “J’ai appris à lire à 50 ans” et “Mon combat contre l’illettrisme”\, sous forme d’interview. Débat avec le public et vente-dédicace de ses livres. \nDu 9 au 13 septembre\, présentation de l’exposition « L’illettrisme\, parlons-en ! » à la médiathèque de Gournay-en-Bray.  \nTout public\, accès libre  \nDans le cadre des Journées nationales d’action contre l’illettrisme portées par l’ANLCI
URL:https://www.normandielivre.fr/agenda-collaboratif/rencontre-avec-aline-le-guluche-a-gournay-en-bray/
LOCATION:Médiathèque Michel Bussi à Gournay en Bray\, 44 avenue du Général Leclerc\, GOURNAY-EN-BRAY\, 76220\, France
CATEGORIES:Action contre l'illettrisme,Rencontre
ATTACH;FMTTYPE=image/jpeg:https://www.normandielivre.fr/wp-content/uploads/2024/09/J-ai-appris-a-lire-a-50-ans.jpg
END:VEVENT
BEGIN:VEVENT
DTSTART;TZID=Europe/Paris:20240910T103000
DTEND;TZID=Europe/Paris:20240910T120000
DTSTAMP:20260423T130230
CREATED:20240902T153100Z
LAST-MODIFIED:20240902T153124Z
UID:10001955-1725964200-1725969600@www.normandielivre.fr
SUMMARY:Visite commentée de l’expo-quizz « L’illettrisme parlons-en » à Lillebonne
DESCRIPTION:Visite commentée de l’exposition « L’illettrisme parlons-en » avec le public du CLIPS\, pour les sensibiliser à ce qu’est l’illettrisme\, ses causes et conséquences. \nCet espace de dialogue pourra apporter des prises de conscience\, libérer la parole des demandeurs d’emploi. \nTout public\, accès libre  \nDans le cadre des Journées nationales d’action contre l’illettrisme portées par l’ANLCI
URL:https://www.normandielivre.fr/agenda-collaboratif/visite-commentee-de-lexpo-quizz-lillettrisme-parlons-en-a-lillebonne/
LOCATION:Médiathèque de Lillebonne\, Place Pierre de Coubertin\, LILLEBONNE\, 76170
CATEGORIES:Action contre l'illettrisme,Exposition
ATTACH;FMTTYPE=image/jpeg:https://www.normandielivre.fr/wp-content/uploads/2022/08/Origami-JNAI-1.jpeg
END:VEVENT
BEGIN:VEVENT
DTSTART;TZID=Europe/Paris:20240910T183000
DTEND;TZID=Europe/Paris:20240910T203000
DTSTAMP:20260423T130230
CREATED:20240902T141815Z
LAST-MODIFIED:20240902T141815Z
UID:10001950-1725993000-1726000200@www.normandielivre.fr
SUMMARY:Rencontre avec Aline Le Guluche à Thiberville
DESCRIPTION:Rencontre avec Aline Le Guluche\, autrice du livre « J’ai appris à lire à 50 ans ». Elle est aujourd’hui porte-parole du programme national de lutte contre l’illettrisme des femmes.  \nDébat avec le public et vente-dédicace de ses livres.\n \nDans le cadre des Journées nationales d’action contre l’illettrisme portées par l’ANLCI\, la Médiathèque départementale de l’Eure et Normandie Livre & Lecture organisent quatre rencontres autour de l’illettrisme. \nTout public\, accès libre  \n 
URL:https://www.normandielivre.fr/agenda-collaboratif/rencontre-avec-aline-le-guluche-a-thiberville/
LOCATION:Salle des Fêtes de Thiberville\, Thiberville\, 27230
CATEGORIES:Action contre l'illettrisme,Rencontre
ATTACH;FMTTYPE=image/jpeg:https://www.normandielivre.fr/wp-content/uploads/2024/09/J-ai-appris-a-lire-a-50-ans.jpg
END:VEVENT
BEGIN:VEVENT
DTSTART;TZID=Europe/Paris:20240911T100000
DTEND;TZID=Europe/Paris:20240911T113000
DTSTAMP:20260423T130230
CREATED:20240902T150827Z
LAST-MODIFIED:20240902T150827Z
UID:10001952-1726048800-1726054200@www.normandielivre.fr
SUMMARY:Atelier de conversation “venez parler de tout et de rien ! “
DESCRIPTION:Atelier de conversation pour les personnes en situation d’illettrisme ou apprenant le français\, animé par une médiatrice. Venez parler de tout et de rien tout en renforçant votre vocabulaire…  \nDans le cadre des Journées nationales d’action contre l’illettrisme portées par l’ANLCI
URL:https://www.normandielivre.fr/agenda-collaboratif/atelier-de-conversation-venez-parler-de-tout-et-de-rien/
LOCATION:Médiathèque Michel Bussi à Gournay en Bray\, 44 avenue du Général Leclerc\, GOURNAY-EN-BRAY\, 76220\, France
CATEGORIES:Action contre l'illettrisme,Atelier
ATTACH;FMTTYPE=image/jpeg:https://www.normandielivre.fr/wp-content/uploads/2022/08/Origami-JNAI-1.jpeg
END:VEVENT
BEGIN:VEVENT
DTSTART;TZID=Europe/Paris:20240911T183000
DTEND;TZID=Europe/Paris:20240911T200000
DTSTAMP:20260423T130230
CREATED:20240902T144114Z
LAST-MODIFIED:20240902T144114Z
UID:10001951-1726079400-1726084800@www.normandielivre.fr
SUMMARY:Rencontre avec Aline Le Guluche à Bourg-Achard
DESCRIPTION:Rencontre avec Aline Le Guluche\, autrice du livre « J’ai appris à lire à 50 ans ».   \nTout public\, accès libre  \nDans le cadre des Journées nationales d’action contre l’illettrisme portées par l’ANLCI\, la Médiathèque départementale de l’Eure et Normandie Livre & Lecture organisent quatre rencontres autour de l’illettrisme.
URL:https://www.normandielivre.fr/agenda-collaboratif/rencontre-avec-aline-le-guluche-a-bourg-achard/
LOCATION:Médiathèque Hector-Malot\, 265 rue des Portes\, BOURG-ACHARD\, 27310
CATEGORIES:Action contre l'illettrisme,Rencontre
ATTACH;FMTTYPE=image/jpeg:https://www.normandielivre.fr/wp-content/uploads/2024/09/J-ai-appris-a-lire-a-50-ans.jpg
END:VEVENT
BEGIN:VEVENT
DTSTART;TZID=Europe/Paris:20240912T140000
DTEND;TZID=Europe/Paris:20240912T163000
DTSTAMP:20260423T130230
CREATED:20240902T152427Z
LAST-MODIFIED:20240902T152427Z
UID:10001954-1726149600-1726158600@www.normandielivre.fr
SUMMARY:Projection-débat du film « Champion » de Mona Achache à Lillebonne
DESCRIPTION:Projection-débat du film « Champion » de Mona Achache \n« Champion » est le récit de la vie Zack qui fait face aux situations de la vie quotidienne sans avoir recours à l’écrit. \nTout public\, accès libre  \nDans le cadre des Journées nationales d’action contre l’illettrisme portées par l’ANLCI
URL:https://www.normandielivre.fr/agenda-collaboratif/projection-debat-du-film-champion-de-mona-achache-a-lillebonne/
LOCATION:Médiathèque de Lillebonne\, Place Pierre de Coubertin\, LILLEBONNE\, 76170
CATEGORIES:Action contre l'illettrisme,Projection
ATTACH;FMTTYPE=image/jpeg:https://www.normandielivre.fr/wp-content/uploads/2024/09/champion-film-scaled.jpg
END:VEVENT
BEGIN:VEVENT
DTSTART;TZID=Europe/Paris:20240912T140000
DTEND;TZID=Europe/Paris:20240912T170000
DTSTAMP:20260423T130230
CREATED:20240902T151154Z
LAST-MODIFIED:20240904T141908Z
UID:10001953-1726149600-1726160400@www.normandielivre.fr
SUMMARY:Conférence : “Qu’est-ce que l’illettrisme ?” à Vernon
DESCRIPTION:Qu’est-ce que l’illettrisme ? Comment reconnaître une situation d’illettrisme ?  Quelles sont les solutions pour y remédier ? \nAïcha Talbi\, chargée de projet du centre de ressources illettrisme du Carif-Oref de Normandie viendra répondre à toutes vos questions. \nUne rencontre co-organisée avec la Médiathèque Départementale de l’Eure et Normandie Livre & Lecture  \nUne exposition sur l’illettrisme sera également visible à la médiathèque de Vernon du 8 au 15 septembre 2024  \nTout public\, accès libre  \n  \nDans le cadre des Journées nationales d’action contre l’illettrisme portées par l’ANLCI\, la Médiathèque départementale de l’Eure et Normandie Livre & Lecture organisent quatre rencontres autour de l’illettrisme.
URL:https://www.normandielivre.fr/agenda-collaboratif/conference-quest-ce-que-lillettrisme/
LOCATION:médiathèque Vernon\, 12 avenue Victor Hugo\, Vernon\, 27200
CATEGORIES:Action contre l'illettrisme,Conférence
ATTACH;FMTTYPE=image/jpeg:https://www.normandielivre.fr/wp-content/uploads/2024/09/J-ai-appris-a-lire-a-50-ans.jpg
END:VEVENT
BEGIN:VEVENT
DTSTART;TZID=Europe/Paris:20240913T140000
DTEND;TZID=Europe/Paris:20240913T170000
DTSTAMP:20260423T130230
CREATED:20240904T143711Z
LAST-MODIFIED:20240904T143711Z
UID:10001962-1726236000-1726246800@www.normandielivre.fr
SUMMARY:Spectacle : Tous analphabètes... ou pas !
DESCRIPTION:« Tous analphabètes… ou pas ! » explore le quotidien ordinaire de millions de personnes\, rendant hommage à ceux pour qui lire et écrire est une lutte constante.  \nLe spectacle met en lumière l’impact de l’analphabétisme et de l’illettrisme sur la vie quotidienne\, révélant les défis que rencontrent les travailleurs en alphabétisation face aux politiques d’intégration et aux méthodes pédagogiques.  \nÀ travers les yeux des apprenants\, animés par une soif d’apprendre\, le spectacle souligne l’urgence et l’importance de l’alphabétisation dans notre société.  \nTout public\, accès libre  \nDans le cadre des Journées nationales d’action contre l’illettrisme portées par l’ANLCI
URL:https://www.normandielivre.fr/agenda-collaboratif/spectacle-tous-analphabetes-ou-pas/
LOCATION:Bibliothèque Simone de Beauvoir (Rouen)\, Pôle culturel Grammont - Rue Henri II Plantagenêt\, Rouen\, 76100
CATEGORIES:Action contre l'illettrisme,Spectacle
ATTACH;FMTTYPE=image/jpeg:https://www.normandielivre.fr/wp-content/uploads/2022/08/Origami-JNAI-1.jpeg
END:VEVENT
BEGIN:VEVENT
DTSTART;TZID=Europe/Paris:20240913T200000
DTEND;TZID=Europe/Paris:20240913T223000
DTSTAMP:20260423T130230
CREATED:20240904T141802Z
LAST-MODIFIED:20240904T141802Z
UID:10001958-1726257600-1726266600@www.normandielivre.fr
SUMMARY:Ciné-débat - Projection du film “Brillantes” à Gournay-en-Bray
DESCRIPTION:Projection du film “Brillantes” suivie d’un débat entre Géraldine Chambon\, chargée de mission ANLCI pour la région Normandie\, Aïcha Talbi\, chargée de projets au centre ressource illettrisme du Carif-Oref Normandie et Pauline Laurelli\, responsable de la médiathèque Michel Bussi.  \nTout public\, accès libre  \nDans le cadre des Journées nationales d’action contre l’illettrisme portées par l’ANLCI
URL:https://www.normandielivre.fr/agenda-collaboratif/cine-debat-projection-du-film-brillantes-a-gournay-en-bray/
LOCATION:Médiathèque Michel Bussi à Gournay en Bray\, 44 avenue du Général Leclerc\, GOURNAY-EN-BRAY\, 76220\, France
CATEGORIES:Action contre l'illettrisme,Projection,Rencontre
ATTACH;FMTTYPE=image/webp:https://www.normandielivre.fr/wp-content/uploads/2024/09/brillantes.webp
END:VEVENT
BEGIN:VEVENT
DTSTART;TZID=Europe/Paris:20240914T150000
DTEND;TZID=Europe/Paris:20240914T170000
DTSTAMP:20260423T130230
CREATED:20240904T142306Z
LAST-MODIFIED:20240904T142306Z
UID:10001959-1726326000-1726333200@www.normandielivre.fr
SUMMARY:Rencontre avec Aline Le Guluche à Pacy-sur-Eure
DESCRIPTION:Rencontre avec Aline Le Guluche\, autrice du livre « J’ai appris à lire à 50 ans ». Elle est aujourd’hui porte-parole du programme national de lutte contre l’illettrisme des femmes.  \nDébat avec le public et vente-dédicace de ses livres.\n \nUne rencontre organisée par la Médiathèque de l’Eure\, Normandie Livre & Lecture et la Bibliothèque de Pacy-sur-Eure.  \nTout public\, accès libre  \n  \nDans le cadre des Journées nationales d’action contre l’illettrisme portées par l’ANLCI\, la Médiathèque départementale de l’Eure et Normandie Livre & Lecture organisent quatre rencontres autour de l’illettrisme.
URL:https://www.normandielivre.fr/agenda-collaboratif/rencontre-avec-aline-le-guluche-a-pacy-sur-eure/
LOCATION:Médiathèque de Pacy-sur-Eure\, Place Dufay\, Pacy-sur-Eure\, 27120
CATEGORIES:Action contre l'illettrisme,Rencontre
ATTACH;FMTTYPE=image/jpeg:https://www.normandielivre.fr/wp-content/uploads/2024/09/J-ai-appris-a-lire-a-50-ans.jpg
END:VEVENT
BEGIN:VEVENT
DTSTART;TZID=Europe/Paris:20240917T080000
DTEND;TZID=Europe/Paris:20240917T170000
DTSTAMP:20260423T130230
CREATED:20240904T143901Z
LAST-MODIFIED:20240904T143901Z
UID:10001963-1726560000-1726592400@www.normandielivre.fr
SUMMARY:Table ronde de sensibilisation à la lutte contre l'illettrisme dans le monde de l'entreprise à Elbeuf
DESCRIPTION:Événement à destination des professionnels du territoire (dirigeants d’entreprises\, DRH…)  \nAu programme de cette matinée :   \n\nDétection des situations d’illettrisme : présentation d’outils et méthodes efficaces.\nRemédiation en entreprise : solutions et pratiques pour accompagner vos employés.\nTables rondes : échanges et témoignages d’experts et d’entreprises ayant mis en place des actions concrètes.\n\nEn partenariat avec France Travail\, le Greta\, Éducation et formation et l’ANLCI  \nRéservations auprès du Greta : mathieu.marie@ac-normandie.fr  \n  \nDans le cadre des Journées nationales d’action contre l’illettrisme portées par l’ANLCI
URL:https://www.normandielivre.fr/agenda-collaboratif/table-ronde-de-sensibilisation-a-la-lutte-contre-lillettrisme-dans-le-monde-de-lentreprise-a-elbeuf/
LOCATION:Médiathèque La Navette à Elbeuf\, 5 rue Michelet\, Elbeuf\, 76500\, France
CATEGORIES:Action contre l'illettrisme,Rencontre
ATTACH;FMTTYPE=image/jpeg:https://www.normandielivre.fr/wp-content/uploads/2022/08/Origami-JNAI-1.jpeg
END:VEVENT
BEGIN:VEVENT
DTSTART;TZID=Europe/Paris:20240917T093000
DTEND;TZID=Europe/Paris:20240917T170000
DTSTAMP:20260423T130230
CREATED:20240904T144718Z
LAST-MODIFIED:20240904T144718Z
UID:10001964-1726565400-1726592400@www.normandielivre.fr
SUMMARY:Journée de sensibilisation et de travail sur l’illettrisme à Bolbec
DESCRIPTION:Dans le cadre de leur contrat territoire lecture 2024-2026\, les médiathèques Caux Seine agglo participent aux Journées nationales d’action contre l’illettrisme.  \nElles invitent leurs partenaires à participer le mardi 17 septembre à une journée de sensibilisation et de travail sur l’illettrisme\, animée par Aïcha Talbi\, du Carif-Oref Normandie. La matinée sera consacrée à une sensibilisation à l’illettrisme\, l’après-midi à une réflexion sur les actions possibles en partenariat.  \n  \nDans le cadre des Journées nationales d’action contre l’illettrisme portées par l’ANLCI
URL:https://www.normandielivre.fr/agenda-collaboratif/journee-de-sensibilisation-et-de-travail-sur-lillettrisme-a-bolbec/
LOCATION:médiathèque Caux Seine Agglo – Bolbec\, Square Général Leclerc\, Bolbec\, 76210
CATEGORIES:Action contre l'illettrisme,Rencontre
ATTACH;FMTTYPE=image/jpeg:https://www.normandielivre.fr/wp-content/uploads/2022/08/Origami-JNAI-1.jpeg
END:VEVENT
BEGIN:VEVENT
DTSTART;TZID=Europe/Paris:20240925T140000
DTEND;TZID=Europe/Paris:20240925T170000
DTSTAMP:20260423T130230
CREATED:20240904T144933Z
LAST-MODIFIED:20240904T144933Z
UID:10001965-1727272800-1727283600@www.normandielivre.fr
SUMMARY:Lectures à voix haute et jeux autour des mots à Elbeuf
DESCRIPTION:Le temps d’une après-midi\, les stagiaires d’Éducation et Formation sont les ambassadeurs de la médiathèque : ils vous offrent des lectures d’histoires pour petits et grands\, et sont vos guides privilégiés pour visiter la médiathèque. De nombreux jeux autour des mots sont aussi proposés dans le patio de la médiathèque.  \nTout public\, accès libre  \nDans le cadre des Journées nationales d’action contre l’illettrisme portées par l’ANLCI
URL:https://www.normandielivre.fr/agenda-collaboratif/lectures-a-voix-haute-et-jeux-autour-des-mots-a-elbeuf/
LOCATION:Médiathèque La Navette à Elbeuf\, 5 rue Michelet\, Elbeuf\, 76500\, France
CATEGORIES:Action contre l'illettrisme,Lecture
ATTACH;FMTTYPE=image/jpeg:https://www.normandielivre.fr/wp-content/uploads/2022/08/Origami-JNAI-1.jpeg
END:VEVENT
BEGIN:VEVENT
DTSTART;TZID=Europe/Paris:20240926T143000
DTEND;TZID=Europe/Paris:20240926T163000
DTSTAMP:20260423T130230
CREATED:20240904T145233Z
LAST-MODIFIED:20240904T145233Z
UID:10001966-1727361000-1727368200@www.normandielivre.fr
SUMMARY:Remise du prix Facile à lire des bibliothèques de Caen-la-mer
DESCRIPTION:Remise du prix Facile à lire des bibliothèques de Caen la mer. En présence de l’auteur lauréat du prix\, de l’ensemble des partenaires et des publics qui ont participé aux médiations culturelles autour des 6 ouvrages sélectionnés.  \nLecture-musicale d’un extrait de l’ouvrage gagnant.   \nTout public\, accès libre  \nDans le cadre des Journées nationales d’action contre l’illettrisme portées par l’ANLCI
URL:https://www.normandielivre.fr/agenda-collaboratif/remise-du-prix-facile-a-lire-des-bibliotheques-de-caen-la-mer/
LOCATION:La bibli François Geindre\, 5 Square du Théâtre\, Hérouville Saint Clair\, 14200
CATEGORIES:Action contre l'illettrisme,Prix
ATTACH;FMTTYPE=image/jpeg:https://www.normandielivre.fr/wp-content/uploads/2022/08/Origami-JNAI-1.jpeg
END:VEVENT
END:VCALENDAR