BEGIN:VCALENDAR
VERSION:2.0
PRODID:-//Normandie Livre &amp; Lecture - ECPv6.15.11//NONSGML v1.0//EN
CALSCALE:GREGORIAN
METHOD:PUBLISH
X-ORIGINAL-URL:https://www.normandielivre.fr
X-WR-CALDESC:Évènements pour Normandie Livre &amp; Lecture
REFRESH-INTERVAL;VALUE=DURATION:PT1H
X-Robots-Tag:noindex
X-PUBLISHED-TTL:PT1H
BEGIN:VTIMEZONE
TZID:Europe/Paris
BEGIN:DAYLIGHT
TZOFFSETFROM:+0100
TZOFFSETTO:+0200
TZNAME:CEST
DTSTART:20220327T010000
END:DAYLIGHT
BEGIN:STANDARD
TZOFFSETFROM:+0200
TZOFFSETTO:+0100
TZNAME:CET
DTSTART:20221030T010000
END:STANDARD
BEGIN:DAYLIGHT
TZOFFSETFROM:+0100
TZOFFSETTO:+0200
TZNAME:CEST
DTSTART:20230326T010000
END:DAYLIGHT
BEGIN:STANDARD
TZOFFSETFROM:+0200
TZOFFSETTO:+0100
TZNAME:CET
DTSTART:20231029T010000
END:STANDARD
BEGIN:DAYLIGHT
TZOFFSETFROM:+0100
TZOFFSETTO:+0200
TZNAME:CEST
DTSTART:20240331T010000
END:DAYLIGHT
BEGIN:STANDARD
TZOFFSETFROM:+0200
TZOFFSETTO:+0100
TZNAME:CET
DTSTART:20241027T010000
END:STANDARD
END:VTIMEZONE
BEGIN:VEVENT
DTSTART;TZID=Europe/Paris:20230908T183000
DTEND;TZID=Europe/Paris:20230908T220000
DTSTAMP:20260424T184040
CREATED:20230904T085650Z
LAST-MODIFIED:20230904T091122Z
UID:10001421-1694197800-1694210400@www.normandielivre.fr
SUMMARY:Projection du film Champion\, en présence des auteurs Sabrina Compeyron et Olivier Gorce
DESCRIPTION:Synopsis :  \nA 24 ans\, Zack a toutes les apparences d’un jeune homme bien dans sa peau. Son secret est bien gardé. Menuisier de talent\, il construit des cabanes perchées dans les arbres avec son père. Mais sa passion\, c’est la boxe\, qu’il enseigne bénévolement. Zack envisage de s’installer avec Marjorie quand son père fait une mauvaise chute et tombe dans le coma. Il doit faire face\, seul\, à la tête de la petite entreprise familiale. Les lacunes qu’il pensait avoir surmontées refont surface\, et alors qu’une nouvelle venue\, Inès\, entre dans sa vie\, son secret risque à tout moment d’être révélé : Zack est illettré. \nDurée : Durée du film 1h30\, suivi d’un échange avec les auteurs et d’un moment convivial. \nPublic : Adolescents\, adultes. \nLieu : Le Moulin\, rue des Anciens Combattants d’Afrique du Nord\, 27400 Louviers \nEntrée gratuite pour tous.  \n\nDétails sur le film\nDe Mona Achache \nPar Sabrina Compeyron\, Olivier Gorce \nAvec Kendji Girac\, Lubna Azabal\, François Creton \n\nEn savoir plus sur le contexte de la projection :\nDans le cadre des Journées nationales d’action contre l’illettrisme portées par l’ANLCI\, la Médiathèque départementale de l’Eure et Normandie Livre & Lecture organisent quatre rencontres autour de l’illettrisme.
URL:https://www.normandielivre.fr/agenda-collaboratif/projection-du-film-champion-en-presence-des-auteurs-sabrina-compeyron-et-olivier-gorce/
LOCATION:Le Moulin\, rue des Anciens Combattants d'Afrique du Nord\, Louviers\, 27400
CATEGORIES:Action contre l'illettrisme,Projection
ATTACH;FMTTYPE=image/webp:https://www.normandielivre.fr/wp-content/uploads/2023/07/kendji.webp
END:VEVENT
BEGIN:VEVENT
DTSTART;TZID=Europe/Paris:20230912T180000
DTEND;TZID=Europe/Paris:20230912T210000
DTSTAMP:20260424T184040
CREATED:20230904T091106Z
LAST-MODIFIED:20230904T091106Z
UID:10001422-1694541600-1694552400@www.normandielivre.fr
SUMMARY:Rencontre avec Aline Le Guluche\, autrice du livre “J'ai appris à lire à 50 ans” à Bernay
DESCRIPTION:Après des années à cacher ses difficultés\, à ne jamais oser avouer qu’elle n’y arrivait pas\, Aline Le Guluche a appris à lire. Dans ce témoignage touchant\, elle raconte son parcours depuis l’école où elle entre l’année de ses 6 ans\, jusqu’à ce jour où elle a enfin pu lire un livre… à 50 ans. Aujourd’hui c’est elle qui témoigne\, à l’écrit. Avec sincérité\, tout simplement\, elle livre un récit intime\, où l’on appréhende l’impasse scolaire\, les embûches professionnelles\, la honte sociale\, mais où l’on découvre aussi le courage\, l’entraide et l’envie toujours de s’en sortir. \nJusqu’à gagner sa liberté d’expression et une vraie place dans la société. Au-delà de l’illettrisme\, c’est le parcours d’une femme qui s’est battue pour devenir libre. \nAline le Guluche est maintenant porte-parole du programme national de lutte contre l’illettrisme des femmes\, Write Her Future\, mené à l’initiative de Lancôme. \nElle présentera également son nouveau livre\, “Mon combat contre l’illettrisme (août 2023). \nDurée : Témoignage et échanges avec le public d’une durée d’1h30\, suivi d’une séance de dédicace avec la librairie A l’Eure des livres\, et d’un moment de convivialité. \nPublic : Adolescents\, adultes. \nLieu : Médiathèque de Bernay – 2 Rue de la Charentonne\, 27300 Bernay \nEntrée gratuite pour tous.  \n  \nEn savoir plus sur le contexte de cette rencontre :\nDans le cadre des Journées nationales d’action contre l’illettrisme portées par l’ANLCI\, la Médiathèque départementale de l’Eure et Normandie Livre & Lecture organisent quatre rencontres autour de l’illettrisme.
URL:https://www.normandielivre.fr/agenda-collaboratif/rencontre-avec-aline-le-guluche-autrice-du-livre-jai-appris-a-lire-a-50-ans-a-bernay/
LOCATION:Médiathèque de Bernay\, 2 Rue de la Charentonne\, Bernay\, 27300
CATEGORIES:Action contre l'illettrisme,Rencontre
ATTACH;FMTTYPE=image/jpeg:https://www.normandielivre.fr/wp-content/uploads/2023/07/J-ai-appris-a-lire-a-50-ans.jpg
END:VEVENT
BEGIN:VEVENT
DTSTART;TZID=Europe/Paris:20230913T180000
DTEND;TZID=Europe/Paris:20230913T213000
DTSTAMP:20260424T184040
CREATED:20230904T091642Z
LAST-MODIFIED:20230904T091736Z
UID:10001424-1694628000-1694640600@www.normandielivre.fr
SUMMARY:Spectacle “Au pied de la lettre”\, par la Compagnie L’Echappée belle
DESCRIPTION:L’illettrisme est tabou. Ce spectacle montre l’intelligence de ceux et celles qui le vivent. Il montre aussi comment tendre la main pour en sortir ou aider à en sortir. \nL’illettrisme est caché par les personnes concernées. Par pudeur\, par honte\, elles développent une intelligence considérable pour dissimuler le problème. Leur entourage amical ou professionnel n’est souvent pas au courant ou n’ose pas aborder le sujet par pudeur. \nLe spectacle sera suivi d’un échange avec Aïcha Talbi\, Chargée de projets au Centre ressources illettrisme (Carif-Oref Normandie). \nDurée : 40 mn suivies d’un échange avec le public et d’un moment de convivialité. \nComédiens et vidéastes : Chantal NICOLAS\, Annaïck NICOLAZIC\, Didier MARIN\, Philippe OUZOUNIAN \nPublic : Grand public adulte\, et particulièrement à toute personne désireuse de s’informer sur l’illettrisme : travailleurs sociaux\, entreprises\, associations\,… \nLieu : Salle Jean-Pierre Bacri (salle de Spectacle du Pays de Conches) – 14 Rue Jacques Villon\, 27190 Conches-en-Ouche \nEntrée gratuite pour tous.  \n  \nEn savoir plus sur le contexte de cet événement :\nDans le cadre des Journées nationales d’action contre l’illettrisme portées par l’ANLCI\, la Médiathèque départementale de l’Eure et Normandie Livre & Lecture organisent quatre rencontres autour de l’illettrisme.
URL:https://www.normandielivre.fr/agenda-collaboratif/spectacle-au-pied-de-la-lettre-par-la-compagnie-lechappee-belle/
LOCATION:Salle Jean-Pierre Bacri (salle de Spectacle du Pays de Conches)\, 14 Rue Jacques Villon\, Conches-en-Ouche\, 27190
CATEGORIES:Action contre l'illettrisme,Spectacle
ATTACH;FMTTYPE=image/jpeg:https://www.normandielivre.fr/wp-content/uploads/2023/07/illettrisme-affiche-w-768x1086-1.jpg
END:VEVENT
BEGIN:VEVENT
DTSTART;TZID=Europe/Paris:20230914T180000
DTEND;TZID=Europe/Paris:20230914T210000
DTSTAMP:20260424T184040
CREATED:20230904T091354Z
LAST-MODIFIED:20230904T091544Z
UID:10001423-1694714400-1694725200@www.normandielivre.fr
SUMMARY:Rencontre avec Aline Le Guluche\, autrice du livre “J'ai appris à lire à 50 ans” à Saint-André-de-l'Eure
DESCRIPTION:Après des années à cacher ses difficultés\, à ne jamais oser avouer qu’elle n’y arrivait pas\, Aline Le Guluche a appris à lire. Dans ce témoignage touchant\, elle raconte son parcours depuis l’école où elle entre l’année de ses 6 ans\, jusqu’à ce jour où elle a enfin pu lire un livre… à 50 ans. Aujourd’hui c’est elle qui témoigne\, à l’écrit. Avec sincérité\, tout simplement\, elle livre un récit intime\, où l’on appréhende l’impasse scolaire\, les embûches professionnelles\, la honte sociale\, mais où l’on découvre aussi le courage\, l’entraide et l’envie toujours de s’en sortir. \nJusqu’à gagner sa liberté d’expression et une vraie place dans la société. Au-delà de l’illettrisme\, c’est le parcours d’une femme qui s’est battue pour devenir libre. \nAline le Guluche est maintenant porte-parole du programme national de lutte contre l’illettrisme des femmes\, Write Her Future\, mené à l’initiative de Lancôme. \nElle présentera également son nouveau livre\, “Mon combat contre l’illettrisme (août 2023). \nDurée : Témoignage et échanges avec le public d’une durée d’1h30\, suivi d’une séance de dédicace avec la librairie A l’Eure des livres\, et d’un moment de convivialité. \nPublic : Adolescents\, adultes. \nLieu : Médiathèque de Saint-André-de-l’Eure – Rue des Écoles\, 27220 Saint-André-de-l’Eure  \nEntrée gratuite pour tous.  \n  \nEn savoir plus sur le contexte de la rencontre :\nDans le cadre des Journées nationales d’action contre l’illettrisme portées par l’ANLCI\, la Médiathèque départementale de l’Eure et Normandie Livre & Lecture organisent quatre rencontres autour de l’illettrisme.
URL:https://www.normandielivre.fr/agenda-collaboratif/rencontre-avec-aline-le-guluche-autrice-du-livre-jai-appris-a-lire-a-50-ans-a-saint-andre-de-leure/
LOCATION:Médiathèque de Saint-André-de-l’Eure\, Rue des Écoles\, Saint-André-de-l'Eure\, 27220
CATEGORIES:Action contre l'illettrisme,Rencontre
ATTACH;FMTTYPE=image/jpeg:https://www.normandielivre.fr/wp-content/uploads/2023/07/J-ai-appris-a-lire-a-50-ans.jpg
END:VEVENT
END:VCALENDAR