BEGIN:VCALENDAR
VERSION:2.0
PRODID:-//Normandie Livre &amp; Lecture - ECPv6.15.11//NONSGML v1.0//EN
CALSCALE:GREGORIAN
METHOD:PUBLISH
X-WR-CALNAME:Normandie Livre &amp; Lecture
X-ORIGINAL-URL:https://www.normandielivre.fr
X-WR-CALDESC:Évènements pour Normandie Livre &amp; Lecture
REFRESH-INTERVAL;VALUE=DURATION:PT1H
X-Robots-Tag:noindex
X-PUBLISHED-TTL:PT1H
BEGIN:VTIMEZONE
TZID:Europe/Paris
BEGIN:DAYLIGHT
TZOFFSETFROM:+0100
TZOFFSETTO:+0200
TZNAME:CEST
DTSTART:20250330T010000
END:DAYLIGHT
BEGIN:STANDARD
TZOFFSETFROM:+0200
TZOFFSETTO:+0100
TZNAME:CET
DTSTART:20251026T010000
END:STANDARD
BEGIN:DAYLIGHT
TZOFFSETFROM:+0100
TZOFFSETTO:+0200
TZNAME:CEST
DTSTART:20260329T010000
END:DAYLIGHT
BEGIN:STANDARD
TZOFFSETFROM:+0200
TZOFFSETTO:+0100
TZNAME:CET
DTSTART:20261025T010000
END:STANDARD
BEGIN:DAYLIGHT
TZOFFSETFROM:+0100
TZOFFSETTO:+0200
TZNAME:CEST
DTSTART:20270328T010000
END:DAYLIGHT
BEGIN:STANDARD
TZOFFSETFROM:+0200
TZOFFSETTO:+0100
TZNAME:CET
DTSTART:20271031T010000
END:STANDARD
END:VTIMEZONE
BEGIN:VEVENT
DTSTART;TZID=Europe/Paris:20260215T080000
DTEND;TZID=Europe/Paris:20260514T233000
DTSTAMP:20260424T065209
CREATED:20260302T121703Z
LAST-MODIFIED:20260302T121703Z
UID:10003409-1771142400-1778801400@www.normandielivre.fr
SUMMARY:Concours de nouvelles du Festival du Livre Ancres & Encres
DESCRIPTION:Le Festival du Livre Ancres & Encres de Saint-Vaast-la-Hougue lance cette année un concours de nouvelles. L’objectif est d’éditer en juin un recueil des meilleurs textes\, vendu tout au long de la saison estivale 2026 au profit de la Station de Sauvetage de Saint-Vaast-la-Hougue.\nDepuis de longues années\, la SNSM de Saint-Vaast-la-Hougue tire en effet parti des événements organisés au fort de la Hougue pour se faire connaître et recueillir les dons indispensables à son fonctionnement. Avec la fermeture du site pour travaux\, la station locale pourrait perdre une partie substantielle de ses sources de revenus.\nLe festival Ancres et Encres a toujours revendiqué son attachement au monde de la mer. Il était donc logique qu’il se mobilise pour soutenir les sauveteurs en mer de Saint-Vaast-la-Hougue. \nCe concours est ouvert du 15 février au 14 mai 2026\, à toute personne\, sans distinction d’âge\, de nationalité ni de lieu de résidence. \nLe thème du concours est « la mer ». \nLe règlement et le formulaire d’inscription sont disponibles sur le site du festival\, rubrique « actualités » : https://festival-en-cotentin-2.s2.yapla.com/fr/concours-de-nouvelles-2026
URL:https://www.normandielivre.fr/agenda-collaboratif/concours-de-nouvelles-du-festival-du-livre-ancres-encres/
LOCATION:SAINT-VAAST-LA-HOUGUE
CATEGORIES:Concours
ATTACH;FMTTYPE=image/jpeg:https://www.normandielivre.fr/wp-content/uploads/2026/03/affiche-concours-de-nouvelles.jpg
ORGANIZER;CN="Association Festival en Cotentin":MAILTO:yveslecornec@live.fr
END:VEVENT
BEGIN:VEVENT
DTSTART;TZID=Europe/Paris:20260402T110000
DTEND;TZID=Europe/Paris:20260430T170000
DTSTAMP:20260424T065209
CREATED:20260410T133828Z
LAST-MODIFIED:20260410T133828Z
UID:10003441-1775127600-1777568400@www.normandielivre.fr
SUMMARY:Exposition "À Bicyclette"
DESCRIPTION:Cette exposition du photographe Thierry Penneteau emmène les visiteur.euses en voyage et invite à prendre la mesure de l’utilité de ce moyen de transport pour de nombreuses personnes sur la planète.
URL:https://www.normandielivre.fr/agenda-collaboratif/exposition-a-bicyclette/
LOCATION:Médiathèque Quai des Mondes\, 4 Rue Calmette\, Mondeville\, 14120
CATEGORIES:Exposition
ATTACH;FMTTYPE=image/jpeg:https://www.normandielivre.fr/wp-content/uploads/2026/04/exposition-a-bicyclette-avril-2026-scaled.jpg
ORGANIZER;CN="M%C3%A9diath%C3%A8que Quai des Mondes":MAILTO:lisa.lelouard@mondeville.fr
END:VEVENT
BEGIN:VEVENT
DTSTART;TZID=Europe/Paris:20260423T080000
DTEND;TZID=Europe/Paris:20260426T230000
DTSTAMP:20260424T065209
CREATED:20251205T132350Z
LAST-MODIFIED:20251205T132350Z
UID:10002672-1776931200-1777244400@www.normandielivre.fr
SUMMARY:Festival littéraire de Deauville - Livres & Musiques #23
DESCRIPTION:Depuis 2004\, c’est à Deauville\, lors du festival littéraire Livres & Musiques\, que l’on célèbre\, chaque printemps\, les mots de la musique et la musiques des mots\, en accueillant les auteurs inspirés par la musiques et les\nmusiciens passionnés par la littérature. \nChaque année\, début mai\, romanciers\, biographes\, illustrateurs et auteurs de BD\, auteurs jeunesse\, écrivains chanteurs… se retrouvent à Deauville pour des lectures musicales\, des concerts littéraires et des rencontres singulières et inédites qui explorent\, commentent et illustrent les liens et rebonds entre écriture et musique.\n_________\nRendez-vous aux Franciscaines du Jeudi 23 avril 2026 au Dimanche 26 avril 2026 pour pleins d’événements gratuits autour de la littérature et de la musique.
URL:https://www.normandielivre.fr/agenda-collaboratif/festival-litteraire-de-deauville-livres-musiques-23/
LOCATION:Les Franciscaines\, Deauville\, 145b avenue de la République\, Deauville\, 14800\, France
CATEGORIES:Festival
ATTACH;FMTTYPE=image/png:https://www.normandielivre.fr/wp-content/uploads/2025/12/3ACD0944-EB85-4F99-9616-C7502F27C657.png
ORGANIZER;CN="Les Franciscaines%2C Deauville":MAILTO:accueil@lesfranciscaines.fr
END:VEVENT
BEGIN:VEVENT
DTSTART;TZID=Europe/Paris:20260424T193000
DTEND;TZID=Europe/Paris:20260424T220000
DTSTAMP:20260424T065209
CREATED:20260410T090726Z
LAST-MODIFIED:20260410T090726Z
UID:10003438-1777059000-1777068000@www.normandielivre.fr
SUMMARY:Atelier d'écriture : quels sapiens voulons-nous devenir?
DESCRIPTION:Quels sapiens voulons-nous devenir ? \nUn vendredi par mois\, à la librairie Le Garage Hermétique\, venez écrire pour ré-étoffer vos rapports au vivant. \nEn mobilisant le langage\, vous explorerez vos rapports aux rivières et aux forêts\, aux pieuvres et aux castors\, à la terre que vous foulez et à la pluie qui la fertilise. \nVous questionnerez les différentes façons d’habiter et de faire territoire et envisagerez l’enchevêtrement des modalités d’existence avec d’autres\, humains et non-humains comme autant de pistes à déployer pour votre imaginaire et votre écriture. \nVous prendrez appui sur les textes de poètes et de poètesses\, de romanciers et de romancières\, de philosophes et d’anthropologues\, de chercheur·euses et de bâtisseur·euses de mondes pour mieux questionner\, déconstruire\, rebâtir un monde désirable pour tous·tes. \nVous serez guidé·es par Isabelle AUREAU\, animatrice d’ateliers d’écriture\, autrice de la Lettre d’Amour et de magie et professeure de yoga. \nChaque atelier est indépendant. Il n’est pas nécessaire d’avoir participé aux ateliers précédents pour s’inscrire. \nOù? A la librairie Le Garage Hermétique\, à Luc-sur-mer\nQuand? Un vendredi par mois. De 19h30 à 22h00 (environ)\nTarif : 20 € \nAucun pré-requis si ce n’est l’envie d’écrire et de se laisser surprendre ! \nInformations et inscriptions sur https://isabelleaureau.fr\nou par email : isabelle.aureau@gmail.com \nAttention\, le nombre de places est limité.
URL:https://www.normandielivre.fr/agenda-collaboratif/atelier-decriture-quels-sapiens-voulons-nous-devenir/2026-04-24/
LOCATION:librairie le garage hermétique\, 5 rue de la brèche marais\, luc sur mer\, 14530
CATEGORIES:Atelier
ATTACH;FMTTYPE=image/jpeg:https://www.normandielivre.fr/wp-content/uploads/2026/04/WhatsApp-Image-2026-04-10-at-09.41.14.jpeg
ORGANIZER;CN="librairie le garage herm%C3%A9tique":MAILTO:librairie.legarage@gmail.com
END:VEVENT
END:VCALENDAR